BEGIN:VCALENDAR
VERSION:2.0
PRODID:-//Athens Baroque Festival - ECPv6.15.20//NONSGML v1.0//EN
CALSCALE:GREGORIAN
METHOD:PUBLISH
X-ORIGINAL-URL:https://athensbaroquefestival.com
X-WR-CALDESC:Events for Athens Baroque Festival
REFRESH-INTERVAL;VALUE=DURATION:PT1H
X-Robots-Tag:noindex
X-PUBLISHED-TTL:PT1H
BEGIN:VTIMEZONE
TZID:Europe/Athens
BEGIN:DAYLIGHT
TZOFFSETFROM:+0200
TZOFFSETTO:+0300
TZNAME:EEST
DTSTART:20180325T010000
END:DAYLIGHT
BEGIN:STANDARD
TZOFFSETFROM:+0300
TZOFFSETTO:+0200
TZNAME:EET
DTSTART:20181028T010000
END:STANDARD
BEGIN:DAYLIGHT
TZOFFSETFROM:+0200
TZOFFSETTO:+0300
TZNAME:EEST
DTSTART:20190331T010000
END:DAYLIGHT
BEGIN:STANDARD
TZOFFSETFROM:+0300
TZOFFSETTO:+0200
TZNAME:EET
DTSTART:20191027T010000
END:STANDARD
BEGIN:DAYLIGHT
TZOFFSETFROM:+0200
TZOFFSETTO:+0300
TZNAME:EEST
DTSTART:20200329T010000
END:DAYLIGHT
BEGIN:STANDARD
TZOFFSETFROM:+0300
TZOFFSETTO:+0200
TZNAME:EET
DTSTART:20201025T010000
END:STANDARD
END:VTIMEZONE
BEGIN:VEVENT
DTSTART;TZID=Europe/Athens:20190929T210000
DTEND;TZID=Europe/Athens:20190929T210000
DTSTAMP:20260421T153258
CREATED:20190524T094824Z
LAST-MODIFIED:20200716T094820Z
UID:795-1569790800-1569790800@athensbaroquefestival.com
SUMMARY:Les Voix Humaines – Human Voices / Angelos Repapis & Nikos Panagiotidis (Greece)
DESCRIPTION:This is how the French composer and virtuoso viola da gamba player Marin Marais (1656-1728) entitled one of his short compositions for his beloved string instrument. \nMost likely this has been a way for him to declare that viola da gamba with its high tender notes and its deep bass notes is the musical instrument which resembles the human voice more than any other. This programme highlights the characteristics and the matching of the two instruments. \nIn addition to  works of  M. Marais it includes representative works from late Renaissance Spanish composers\, such as Diego Ortiz\, until middle Baroque period French composers such as Robert de Visée. \nAngelos Repapis\, Viola da Gamba \nNikos Panagiotidis\, Theorbo / Baroque Guitar \nTICKETS
URL:https://athensbaroquefestival.com/event/repapis-panagiotidis/
LOCATION:Athens University History Museum\, Tholou 5\, Athens\, 105 56\, Greece
CATEGORIES:Baroque Festival 2019
ATTACH;FMTTYPE=image/jpeg:https://athensbaroquefestival.com/wp-content/uploads/2019/05/Repapis-Panagiotidis.jpg
END:VEVENT
BEGIN:VEVENT
DTSTART;TZID=Europe/Athens:20190929T190000
DTEND;TZID=Europe/Athens:20190929T190000
DTSTAMP:20260421T153259
CREATED:20190524T094644Z
LAST-MODIFIED:20190907T081255Z
UID:793-1569783600-1569783600@athensbaroquefestival.com
SUMMARY:Songs for The Lady / Εlektra Papasimakis & Stefanie Köpfler-Bertels  (Greece-Germany)
DESCRIPTION:The Madonna\, the Virgin\, the most pure\, the bright\, the full of Grace\, the one with the sacred Chest\, the beautiful\, the blessed\, the royal…The figure of the Virgin Mary has inspired and marked throughout the years and equal as a  muse she has inspired the poets and the music composers. She is praised\, sung and at the same time pulls the artist to his limits. The program “Songs for The Lady” is a small sample of all those elements and contradictions\, presenting songs written for the Virgin Mary\, for voice and instrument accompaniment. The compositions presented are dated from the Middle Age and the Cantigas de Santa Maria (1221-1284) till the late baroque era as the latter is represented by G.F.Händel (1685-1759). \n  \nΕlektra Papasimakis\, Soprano \nStefanie Köpfler-Bertels\, Organ \nTICKETS
URL:https://athensbaroquefestival.com/event/papasimaki-kopfel/
LOCATION:Athens University History Museum\, Tholou 5\, Athens\, 105 56\, Greece
CATEGORIES:Baroque Festival 2019
ATTACH;FMTTYPE=image/jpeg:https://athensbaroquefestival.com/wp-content/uploads/2019/05/Papasimaki_Kopfler2.jpg
END:VEVENT
BEGIN:VEVENT
DTSTART;TZID=Europe/Athens:20190928T200000
DTEND;TZID=Europe/Athens:20190928T200000
DTSTAMP:20260421T153259
CREATED:20190524T094504Z
LAST-MODIFIED:20190907T081304Z
UID:791-1569700800-1569700800@athensbaroquefestival.com
SUMMARY:Mediterranean Blend / Mezzo Ensemble (Israel)
DESCRIPTION:Sephardic  songs and Villancicos of the 15th and 16th century from the Iberian Peninsula. Works for the guitar from Gaspar Sanz and Italian scherzi & arias of Claudio Monteverdi & Girolamo Frescobaldi. The Mezzo Ensemble creates a unique “blend” of Mediterranean flavors. \nMezzo Ensemble: \nYe’ela Avital\, Soprano \nDoret Florentin\, Recorders \nGideon Brettler\, Baroque guitar \nDavina Florentin\, Percussion \n  \nTICKETS
URL:https://athensbaroquefestival.com/event/mezzo-ensemble/
LOCATION:Athens University History Museum\, Tholou 5\, Athens\, 105 56\, Greece
CATEGORIES:Baroque Festival 2019
ATTACH;FMTTYPE=image/jpeg:https://athensbaroquefestival.com/wp-content/uploads/2019/05/Mezzo_Ensemble.jpg
END:VEVENT
BEGIN:VEVENT
DTSTART;TZID=Europe/Athens:20190927T200000
DTEND;TZID=Europe/Athens:20190927T200000
DTSTAMP:20260421T153300
CREATED:20190524T093903Z
LAST-MODIFIED:20190907T081309Z
UID:787-1569614400-1569614400@athensbaroquefestival.com
SUMMARY:Il viaggio musicale - Focus on the Concerto /  Artemandoline Ensemble (Luxembourg)
DESCRIPTION:During the Baroque period concertos for mandolin were highly appreciated\, as confirmed by the countless manuscripts to be found in European libraries. Starting in Naples the mandolin spread rapidly throughout Italy and all over Europe. In this programme with works by: F. Caroso\, Arrigoni\, Trento\, Piccone\, Romaldi\, Dall’Abacco\, Vivaldi\, Brescianello\, Merula\, Falconieri and Reali\, an incredible freedom takes hold\, speed\, virtuosity. A repertoire full of energy: a hymn to the emotions. \nArtemandoline Baroque Ensemble: \nJuan Carlos Muñoz\, Baroque mandolin & artistic direction \nMari Fe Pavón\, Baroque mandolin & artistic direction \nManuel Muñoz\, Baroque guitar \nAlla Tolkacheva\, Baroque mandolin\, mandola & mandolone \nJean-Daniel Haro\, Viola da gamba \nJean-Christophe Leclère\, Harpsichord \nTICKETS
URL:https://athensbaroquefestival.com/event/artemandoline-ensemble/
LOCATION:Athens University History Museum\, Tholou 5\, Athens\, 105 56\, Greece
CATEGORIES:Baroque Festival 2019
ATTACH;FMTTYPE=image/jpeg:https://athensbaroquefestival.com/wp-content/uploads/2019/05/Artemandoline.jpg
END:VEVENT
END:VCALENDAR